Workbook

Sheet Simulasi
B1: SIMULASI PERHITUNGAN AKREDITASI JURNAL NASIONAL
B2: Berdasarkan Perdirjen No 1 Tahun 2014 Tentang Terbitan Berkala Ilmiah
A4: BAGIAN | B4: UNSUR PENILAIAN | C4: HASIL PENILAIAN | D4: SKOR | F4: BAGIAN | G4: UNSUR PENILAIAN | H4: SKOR
A5: A | B5: PENAMAAN TERBITAN BERKALA ILMIAH | C5: Spesifik sehingga mencerminkan superspesialisasi atau spesialisasi disiplin ilmu tertentu | D5: =VLOOKUP(C5,Sheet2!B:C,2,0) -> 3 | F5: A | G5: PENAMAAN TERBITAN BERKALA ILMIAH | H5: =D5 -> 3
A6: B | B6: KELEMBAGAAN PENERBIT | C6: Perguruan tinggi, lembaga penelitian dan pengembangan, atau badan penerbitan non pemerintah | D6: =VLOOKUP(C6,Sheet2!B7:C11,2,0) -> 2 | F6: B | G6: KELEMBAGAAN PENERBIT | H6: =D6 -> 2
A7: C | B7: PENYUNTINGAN DAN MANAJEMEN PENGELOLAAN TERBITAN | F7: C | G7: PENYUNTINGAN DAN MANAJEMEN PENGELOLAAN TERBITAN | H7: =SUM(D8:D13) -> 8
B8: Pelibatan Mitra Bebestari | C8: Melibatkan mitra bebestari setempat | D8: =VLOOKUP(C8,Sheet2!B12:C15,2,0) -> 1 | F8: D | G8: SUBSTANSI ARTIKEL | H8: =SUM(D15:D23) -> 14
B9: Mutu Penyuntingan Substansi | C9: Cukup Baik. Mitra bebestari kurang nyata dampak kinerjanya. | D9: =VLOOKUP(C9,Sheet2!B16:C18,2,0) -> 0 | F9: E | G9: GAYA PENULISAN | H9: =SUM(D25:D33) -> 9
B10: Kualifikasi Dewan Penyunting | C10: Kurang dari 50% penyunting sudah pernah menulis artikel di terbitan berkala ilmiah Internasional | D10: =VLOOKUP(C10,Sheet2!B19:C21,2,0) -> 2 | F10: F | G10: PENAMPILAN | H10: =SUM(D35:D40) -> 5.5
B11: Petunjuk Penulisan bagi Penulis | C11: Terinci, lengkap, jelas, sistematis, dan tersedia contoh atau template | D11: =VLOOKUP(C11,Sheet2!B22:C24,2,0) -> 2 | F11: G | G11: KEBERKALAAN | H11: =SUM(D42:D45) -> 5
B12: Mutu Penyuntingan Gaya dan Format | C12: Baik dan konsisten | D12: =VLOOKUP(C12,Sheet2!B25:C27,2,0) -> 1 | F12: H | G12: PENYEBARLUASAN | H12: =SUM(D47:D49) -> 6
B13: Manajemen Pengelolaan Terbitan Berkala Ilmiah | C13: Menggunakan manajemen pengelolaan penyuntingan secara kombinasi daring dan surat elektronik | D13: =VLOOKUP(C13,Sheet2!B28:C31,2,0) -> 2 | F13: I | G13: DISINSENTIF | H13: =SUM(D51:D52) -> -5
A14: D | B14: SUBSTANSI ARTIKEL | F14: TOTAL SKOR | H14: =SUM(H5:H13) -> 47.5
B15: Cakupan Keilmuan | C15: Cabang ilmu, misalnya: botani atau studi wilayah | D15: =VLOOKUP(C15,Sheet2!B69:C73,2,0) -> 2 | F15: PERKIRAAN STATUS AKREDITASI | H15: =IF(H14>85,"Terakreditasi A(Sangat Baik)",IF(H14>69.9,"Terakreditasi B (Baik)","Tidak Terakreditasi")) -> Tidak Terakreditasi
B16: Aspirasi Wawasan | C16: Lokal | D16: =VLOOKUP(C16,Sheet2!B74:C78,2,0) -> 0
B17: Kepioniran Ilmiah / Orisinalitas Karya | C17: Memuat artikel yang berisi karya orisinal dan mempunyai kebaruan/memberikan kontribusi ilmiah rendah | D17: =VLOOKUP(C17,Sheet2!B79:C82,2,0) -> 2
B18: Makna Sumbangan bagi Kemajuan Ilmu | C18: Tidak nyata | D18: =VLOOKUP(C18,Sheet2!B83:C85,2,0) -> 1
B19: Dampak Ilmiah | C19: Tidak berdampak (jumlah sitasi 0) | D19: =VLOOKUP(C19,Sheet2!B86:C90,2,0) -> 0
B20: Nisbah Sumber Acuan Primer berbanding Sumber lainnya | C20: 40 - 80 % | D20: =VLOOKUP(C20,Sheet2!B91:C93,2,0) -> 2
B21: Derajat Kemutakhiran | C21: 40 - 80 % | D21: =VLOOKUP(C21,Sheet2!B94:C96,2,0) -> 3
B22: Analisis dan Sintesis | C22: Cukup | D22: =VLOOKUP(C22,Sheet2!B97:C99,2,0) -> 2
B23: Penyimpulan dan Perampatan | C23: Cukup | D23: =VLOOKUP(C23,Sheet2!B100:C102,2,0) -> 2
A24: E | B24: GAYA PENULISAN
B25: Keefektifan Judul Artikel | C25: Lugas tetapi kurang informatif, atau sebaliknya | D25: =VLOOKUP(C25,Sheet2!B103:C105,2,0) -> 0.5
B26: Pencantuman Nama Penulis dan Lembaga Penulis | C26: Lengkap dan konsisten | D26: =VLOOKUP(C26,Sheet2!B106:C108,2,0) -> 1
B27: Abstrak | C27: Abstrak yang jelas dan ringkas dalam Bahasa Inggris dan/atau Bahasa Indonesia | D27: =VLOOKUP(C27,Sheet2!B109:C111,2,0) -> 2
B28: Kata Kunci | C28: Ada tetapi kurang konsisten atau kurang mencerminkan konsep penting dalam artikel | D28: =VLOOKUP(C28,Sheet2!B112:C114,2,0) -> 0.5
B29: Sistematika Pembaban | C29: Lengkap dan bersistem baik | D29: =VLOOKUP(C29,Sheet2!B115:C117,2,0) -> 1
B30: Pemanfaatan Instrumen Pendukung | C30: Informatif dan komplementer | D30: =VLOOKUP(C30,Sheet2!B118:C120,2,0) -> 1
B31: Cara Pengacuan dan Pengutipan | C31: Baku dan konsisten dan menggunakan aplikasi pengutipan standar | D31: =VLOOKUP(C31,Sheet2!B121:C123,2,0) -> 1
B32: Penyusunan Daftar Pustaka | C32: Baku dan konsisten tetapi tidak menggunakan aplikasi pengutipan standar | D32: =VLOOKUP(C32,Sheet2!B124:C126,2,0) -> 1
B33: Peristilahan dan Kebahasaan | C33: Berbahasa Indonesia atau berbahasa resmi PBB yang cukup baik dan benar | D33: =VLOOKUP(C33,Sheet2!B127:C129,2,0) -> 1
A34: F | B34: PENAMPILAN
B35: Ukuran Bidang Tulisan | C35: Konsisten berukuran A4 (210x297 mm) | D35: =VLOOKUP(C35,Sheet2!B52:C54,2,0) -> 1
B36: Tata Letak | C36: Konsisten antarartikel dan antarterbitan | D36: =VLOOKUP(C36,Sheet2!B55:C57,2,0) -> 1
B37: Tipografi | C37: Konsisten antarartikel dan antarterbitan | D37: =VLOOKUP(C37,Sheet2!B58:C60,2,0) -> 1
B38: Resolusi Dokumen PDF | C38: Versi daring: Konsisten dan berkualitas resolusi tinggi, atau Versi cetak: Konsisten, berkualitas tinggi dan dicetak di atas coated paper | D38: =VLOOKUP(C38,Sheet2!B61:C63,2,0) -> 2
B39: Jumlah Halaman per Jilid atau Volume | C39: 100-200 halaman | D39: =VLOOKUP(C39,Sheet2!B64:C66,2,0) -> 0.5
B40: Desain Tampilan Laman | C40: Tidak berciri khas | D40: =VLOOKUP(C40,Sheet2!B67:C68,2,0) -> 0
A41: G | B41: KEBERKALAAN
...

Sheet Hasil Simulasi
A1: HASIL PERHITUNGAN SIMULASI AKREDITASI JURNAL
A3: BAGIAN | B3: UNSUR PENILAIAN | C3: SKOR | D3: NILAI MAKS | E3: ACH
A4: A | B4: PENAMAAN TERBITAN BERKALA ILMIAH | C4: =Simulasi!H5 -> 3 | D4: 3 | E4: =C4/D4 -> 1
A5: B | B5: KELEMBAGAAN PENERBIT | C5: =Simulasi!H6 -> 2 | D5: 4 | E5: =C5/D5 -> 0.5
A6: C | B6: PENYUNTINGAN DAN MANAJEMEN PENGELOLAAN TERBITAN | C6: 12 | D6: 17 | E6: =C6/D6 -> 0.70588235
A7: D | B7: SUBSTANSI ARTIKEL | C7: =Simulasi!H8 -> 14 | D7: 39 | E7: =C7/D7 -> 0.35897436
A8: E | B8: GAYA PENULISAN | C8: =Simulasi!H9 -> 9 | D8: 12 | E8: =C8/D8 -> 0.75
A9: F | B9: PENAMPILAN | C9: =Simulasi!H10 -> 5.5 | D9: 8 | E9: =C9/D9 -> 0.6875
A10: G | B10: KEBERKALAAN | C10: =Simulasi!H11 -> 5 | D10: 6 | E10: =C10/D10 -> 0.83333333
A11: H | B11: PENYEBARLUASAN | C11: =Simulasi!H12 -> 6 | D11: 11 | E11: =C11/D11 -> 0.54545455
A12: I | B12: DISINSENTIF | C12: =Simulasi!H13 -> -5 | D12: 0 | E12: 0
A13: TOTAL SKOR | C13: =Simulasi!H14 -> 47.5
A14: PERKIRAAN STATUS AKREDITASI | C14: =IF(C13>85,"Terakreditasi A(Sangat Baik)",IF(C13>69.9,"Terakreditasi B (Baik)","Tidak Terakreditasi")) -> Tidak Terakreditasi

Sheet Sheet2
A3: PENAMAAN TERBITAN BERKALA ILMIAH | B3: Spesifik sehingga mencerminkan superspesialisasi atau spesialisasi disiplin ilmu tertentu | C3: 3
B4: Cukup spesifik tetapi meluas mencakup bidang ilmu | C4: 2
B5: Kurang spesifik dan bersifat umum | C5: 1
B6: Tidak spesifik dan/atau memakai nama lembaga/lokasi lokal | C6: 0
A7: KELEMBAGAAN PENERBIT | B7: Organisasi profesi ilmiah | C7: 4
B8: Organisasi profesi ilmiah bekerjasama dengan perguruan tinggi dan/atau lembaga penelitian dan pengembangan/ Kementerian/Non Kementerian | C8: 3
B9: Perguruan tinggi, lembaga penelitian dan pengembangan, atau badan penerbitan non pemerintah | C9: 2
B10: Badan penerbitan non pemerintah atau perguruan tinggi yang mendelegasikan ke sub kelembagaan di bawahnya 1 | C10: 1
B11: Penerbit selain ke 4 jenis tipe kelembagaan penerbit | C11: 0
A12: PELIBATAN MITRA BESTARI | B12: Melibatkan mitra bebestari berkualifikasi internasional >50% dari berbagai negara | C12: 5
B13: Melibatkan mitra bebestari berkualifikasi nasional >50% dari berbagai institusi | C13: 3
B14: Melibatkan mitra bebestari setempat | C14: 1
B15: Tidak melibatkan mitra bebestari | C15: 0
A16: Mutu Penyuntingan Substansi | B16: Baik sekali. Mitra bebestari ketat menjaring naskah, memberikan catatan dan saran perbaikan substansif sehingga kespesialisan naskah berkala terjaga | C16: 2
B17: Baik. Mitra bebestari membantu menjaring naskah, memberikan catatan, dan data perbaikan seperlunya | C17: 1
B18: Cukup Baik. Mitra bebestari kurang nyata dampak kinerjanya. | C18: 0
A19: Kualifikasi dewan penyunting | B19: Lebih dari 50% penyunting sudah pernahmenulis artikel di terbitan berkala ilmiah internasional | C19: 3
B20: Kurang dari 50% penyunting sudah pernah menulis artikel di terbitan berkala ilmiah Internasional | C20: 2
B21: Lainnya yang belum berpengalamanmenulis artikel di terbitan berkala ilmiah Internasional | C21: 1
A22: Petunjuk Penulisan | B22: Terinci, lengkap, jelas, sistematis, dan tersedia contoh atau template | C22: 2
B23: Kurang lengkap dan kurang jelas | C23: 1
B24: Tidak Lengkap dan tidak jelas | C24: 0
A25: Mutu Penyuntingan Gaya dan Format | B25: Baik sekali dan sangat konsisten 2 2 | C25: 2
B26: Baik dan konsisten | C26: 1
B27: Lainnya (tidak baik atau tidak konsisten) | C27: 0
A28: Manajemen Pengelolaan Terbitan Berkala Ilmiah | B28: Menggunakan manajemen pengelolaan penyuntingan secara daring penuh | C28: 3
B29: Menggunakan manajemen pengelolaan penyuntingan secara kombinasi daring dan surat elektronik | C29: 2
B30: Menggunakan manajemen pengelolaan penyuntingan melalui surat elektronik saja | C30: 1
B31: Menggunakan manajemen pengelolaan penyuntingan secara pencatatan manual saja | C31: 0.5
A32: Jadwal Penerbitan | B32: >80% terbitan sesuai dengan periode yang ditentukan | C32: 2
B33: 40-80 % terbitan sesuai dengan periode yang ditentukan | C33: 1
B34: <40% terbitan sesuai dengan periode yang ditentukan | C34: 0
A35: Tata Penomoran Penerbitan | B35: Baku dan bersistem | C35: 2
B36: Tidak baku tetapi bersistem | C36: 1
B37: Tidak bersistem dan tidak baku | C37: 0
A38: Penomoran Halaman | B38: Berurut dalam satu volume | C38: 1
B39: Tiap nomor dimulai dengan halaman baru | C39: 0
A40: Indeks Tiap Jilid atau Volume | B40: Berindeks Subjek dan berindeks pengarang yang terinci | C40: 1
B41: Berindeks subjek saja, atau berindeks pengarang saja | C41: 0.5
B42: Tidak Berindeks | C42: 0
...
